BEGIN:VCALENDAR
PRODID:-//AT Content Types//AT Event//EN
VERSION:2.0
METHOD:PUBLISH
BEGIN:VEVENT
DTSTAMP:20260423T115610Z
CREATED:20091117T180424Z
UID:ATEvent-cb31adaa-e0ac-4168-a89a-c289007029b2
LAST-MODIFIED:20091219T000752Z
SUMMARY:March 27/28 - Peter Campbell Clinic
DTSTART:20100327T120000Z
DTEND:20100328T190000Z
DESCRIPTION:A weekend clinic on Natural Horsemanship
LOCATION:Equestrian Center
CATEGORIES:Clinic
CONTACT:828-859-9021\, horseshow@fence.org
CLASS:PUBLIC
END:VEVENT
END:VCALENDAR
