BEGIN:VCALENDAR
PRODID:-//AT Content Types//AT Event//EN
VERSION:1.0
BEGIN:VEVENT
DTSTART:20110326T120000Z
DTEND:20110327T190000Z
DCREATED:20101116T155257Z
UID:ATEvent-cbe01607-c415-4b35-a39f-22f7e1acd27e
SEQUENCE:0
LAST-MODIFIED:20101116T155257Z
SUMMARY:March 26 - 27: USPC Dressage Rally
LOCATION:Equestrian Center
PRIORITY:3
TRANSP:0
END:VEVENT
END:VCALENDAR
