BEGIN:VCALENDAR
PRODID:-//AT Content Types//AT Event//EN
VERSION:1.0
BEGIN:VEVENT
DTSTART:20090322T200000Z
DTEND:20090322T210000Z
DCREATED:20090312T174236Z
UID:ATEvent-88d63fff-59ee-45ae-bc4c-83425b7a30f2
SEQUENCE:0
LAST-MODIFIED:20090312T174426Z
SUMMARY:March 22 - The Armchair Traveler
DESCRIPTION:CANCELLED
PRIORITY:3
TRANSP:0
END:VEVENT
END:VCALENDAR
