BEGIN:VCALENDAR
PRODID:-//AT Content Types//AT Event//EN
VERSION:1.0
BEGIN:VEVENT
DTSTART:20100321T200000Z
DTEND:20100321T213000Z
DCREATED:20091117T175922Z
UID:ATEvent-88acac04-91c2-4eaf-8fba-5cd2005dba19
SEQUENCE:0
LAST-MODIFIED:20100311T173439Z
SUMMARY:March 21 - Family Concert
DESCRIPTION:The duo "Strings Attached" (violin and guitar) offers an e
 clectic program of pop\, jazz and blues. Free program.
LOCATION:Great Room
PRIORITY:3
TRANSP:0
END:VEVENT
END:VCALENDAR
