BEGIN:VCALENDAR
PRODID:-//AT Content Types//AT Event//EN
VERSION:1.0
BEGIN:VEVENT
DTSTART:20100321T223000Z
DTEND:20100322T030000Z
DCREATED:20091117T180228Z
UID:ATEvent-2aa265d7-5bc4-4793-9f53-b006110f7d43
SEQUENCE:0
LAST-MODIFIED:20091219T180330Z
SUMMARY:March 21 - Astronomy Program at sunset
DESCRIPTION:Program to be announced.
LOCATION:Hawk Ridge\, FENCE Center
PRIORITY:3
TRANSP:0
END:VEVENT
END:VCALENDAR
