BEGIN:VCALENDAR
PRODID:-//AT Content Types//AT Event//EN
VERSION:1.0
BEGIN:VEVENT
DTSTART:20100319T233000Z
DTEND:20100320T010000Z
DCREATED:20091124T172723Z
UID:ATEvent-989303e1-c917-43f5-92d7-73284f6d7fe8
SEQUENCE:0
LAST-MODIFIED:20091219T180311Z
SUMMARY:March 19: Foothills Astronomical Society meeting
DESCRIPTION:Public welcome. Enter through rear entrance of our main bu
 ilding.
LOCATION:FENCE Center
PRIORITY:3
TRANSP:0
END:VEVENT
END:VCALENDAR
