BEGIN:VCALENDAR
PRODID:-//AT Content Types//AT Event//EN
VERSION:2.0
METHOD:PUBLISH
BEGIN:VEVENT
DTSTAMP:20260423T105918Z
CREATED:20101206T170757Z
UID:ATEvent-e54d5e48-2049-4b61-98a0-52a6181f00ce
LAST-MODIFIED:20101206T170757Z
SUMMARY:March 18: Foothills Astronomical Society meeting
DTSTART:20110318T233000Z
DTEND:20110319T013000Z
DESCRIPTION:Regular monthly club meeting. All invited. Enter through r
 ear of FENCE Center.
LOCATION:FENCE Center
CATEGORIES:Nature/Astronomy
CONTACT:Jim Cooper\, 828-859-8342
CLASS:PUBLIC
END:VEVENT
END:VCALENDAR
