BEGIN:VCALENDAR
PRODID:-//AT Content Types//AT Event//EN
VERSION:2.0
METHOD:PUBLISH
BEGIN:VEVENT
DTSTAMP:20260423T095506Z
CREATED:20091117T175628Z
UID:ATEvent-b9b7d0e7-3d05-4305-bcfb-0c734fe0b7f9
LAST-MODIFIED:20100201T144856Z
SUMMARY:March 14 - Go Fly A Kite!
DTSTART:20100314T180000Z
DTEND:20100314T210000Z
DESCRIPTION:Welcome the spring breezes with this annual kite flying fa
 mily event. Free kites to the first 200 children.
LOCATION:Hawk Ridge\, FENCE Center
CATEGORIES:Family
CONTACT:828-859-9021\, info@fence.org
CLASS:PUBLIC
END:VEVENT
END:VCALENDAR
