BEGIN:VCALENDAR
PRODID:-//AT Content Types//AT Event//EN
VERSION:2.0
METHOD:PUBLISH
BEGIN:VEVENT
DTSTAMP:20260423T154839Z
CREATED:20101120T214221Z
UID:ATEvent-8b8fff95-63f3-4f0e-a82b-87bd107e24da
LAST-MODIFIED:20101120T214221Z
SUMMARY:March 14: Gardening Seminar\, 10am
DTSTART:20110314T140000Z
DTEND:20110314T153000Z
DESCRIPTION:"Pruner Sharpening and Pruner Selection"\, with Rhonda And
 erson. Free program
LOCATION:Great Room
CATEGORIES:Nature Program
CONTACT:Rhonda Anderson\, 864-468-4848
CLASS:PUBLIC
END:VEVENT
END:VCALENDAR
