BEGIN:VCALENDAR
PRODID:-//AT Content Types//AT Event//EN
VERSION:1.0
BEGIN:VEVENT
DTSTART:20110313T170000Z
DTEND:20110313T203000Z
DCREATED:20110202T201339Z
UID:ATEvent-7f6eff73-9dcd-413f-92e4-fbbae215b37c
SEQUENCE:0
LAST-MODIFIED:20110202T201339Z
SUMMARY:March 13: Go Fly A Kite!
DESCRIPTION:A sure sign of spring. Our annual kite-flying event on Haw
 k Ridge. Offered free of charge with the support of the Kirby Endowmen
 t Fund at the Polk County Community Foundation.
LOCATION:Hawk Ridge
PRIORITY:3
TRANSP:0
END:VEVENT
END:VCALENDAR
