BEGIN:VCALENDAR
PRODID:-//AT Content Types//AT Event//EN
VERSION:1.0
BEGIN:VEVENT
DTSTART:20100314T000000Z
DTEND:20100314T040000Z
DCREATED:20091124T172550Z
UID:ATEvent-8b5d1b52-5292-426f-85d6-7dfc576dcd61
SEQUENCE:0
LAST-MODIFIED:20091219T180255Z
SUMMARY:March 13: Astronomy Program at sunset
DESCRIPTION:Venus Brightens Twilight Skies. Program takes place on the
  hill behind our main building. Telescopes provided. No program in cas
 e of rain or heavy cloud cover. Offered by the Foothills Astronomical 
 Society.
LOCATION:Hawk Ridge\, FENCE Center
PRIORITY:3
TRANSP:0
END:VEVENT
END:VCALENDAR
