BEGIN:VCALENDAR
PRODID:-//AT Content Types//AT Event//EN
VERSION:1.0
BEGIN:VEVENT
DTSTART:20110312T230000Z
DTEND:20110313T030000Z
DCREATED:20101206T165854Z
UID:ATEvent-a39a3054-4b9d-41a2-8ba5-b4ed28101f7d
SEQUENCE:0
LAST-MODIFIED:20101206T165854Z
SUMMARY:March 12: Astronomy Program at sunset
DESCRIPTION:"First Quarter Moon". Meet at the top of Hawk Ridge\, behi
 nd the FENCE Center. Telescopes provided. Free program presented by th
 e Foothills Astronomical Society.
LOCATION:Hawk Ridge
PRIORITY:3
TRANSP:0
END:VEVENT
END:VCALENDAR
