BEGIN:VCALENDAR
PRODID:-//AT Content Types//AT Event//EN
VERSION:2.0
METHOD:PUBLISH
BEGIN:VEVENT
DTSTAMP:20260423T191335Z
CREATED:20150714T180154Z
UID:ATEvent-1564ca08-74f3-49cd-8919-f5f3169cd258
LAST-MODIFIED:20150714T180155Z
SUMMARY:Lyons Legancy Ride for Life
DTSTART:20151019T120000Z
DTEND:20151025T210000Z
LOCATION:FENCE Equestrian Side
CATEGORIES:Clinic
CLASS:PUBLIC
END:VEVENT
END:VCALENDAR
