BEGIN:VCALENDAR
PRODID:-//AT Content Types//AT Event//EN
VERSION:1.0
BEGIN:VEVENT
DTSTART:20131028T120000Z
DTEND:20131031T210000Z
DCREATED:20130530T185824Z
UID:ATEvent-d3370339-5ada-4e31-9c80-24ac491bdc52
SEQUENCE:0
LAST-MODIFIED:20130530T185825Z
SUMMARY:Lucas Agnew Dog Training
DESCRIPTION:This is a hands-on workshop for trainers and dog owners wh
 o still want to learn and be at the top of their game. Cheri Lucas and
  Brian Agnew will share their years of experience and collaboration th
 at has allowed them to tackle tough dog behavior cases that convention
 al training can't crack. The Lucas Agnew motto is "Less talk\, more ac
 tion," believing that we learn the best by practical application. Stud
 ents are invited and encouraged to bring their problem dogs to class.
LOCATION:FENCE EQ side
PRIORITY:3
TRANSP:0
END:VEVENT
END:VCALENDAR
