BEGIN:VCALENDAR
PRODID:-//AT Content Types//AT Event//EN
VERSION:1.0
BEGIN:VEVENT
DTSTART:20191117T170000Z
DTEND:20191117T203000Z
DCREATED:20191028T145052Z
UID:ATEvent-efa002555dfa4df1a2eae5304293d60e
SEQUENCE:0
LAST-MODIFIED:20191105T194032Z
SUMMARY:Llama hike
DESCRIPTION:Llama Caddy will visit FENCE for a Llama hike around the p
 roperty. There is a $15 per person fee for this hike.
LOCATION:FENCE Center
PRIORITY:3
TRANSP:0
END:VEVENT
END:VCALENDAR
