BEGIN:VCALENDAR
PRODID:-//AT Content Types//AT Event//EN
VERSION:1.0
BEGIN:VEVENT
DTSTART:20161029T120000Z
DTEND:20161030T210000Z
DCREATED:20151112T153304Z
UID:ATEvent-53a31a56-7fa2-4c39-ba1a-944099ce5d46
SEQUENCE:0
LAST-MODIFIED:20151112T153304Z
SUMMARY:Lewis Pack Show
LOCATION:FENCE Equestrian Side
PRIORITY:3
TRANSP:0
END:VEVENT
END:VCALENDAR
