BEGIN:VCALENDAR
PRODID:-//AT Content Types//AT Event//EN
VERSION:1.0
BEGIN:VEVENT
DTSTART:20130614T120000Z
DTEND:20130616T210000Z
DCREATED:20130228T184233Z
UID:ATEvent-0dc2ca6e-efd9-4ce9-bbac-653a8c2b12b5
SEQUENCE:0
LAST-MODIFIED:20130228T184233Z
SUMMARY:Lewis Pack Horse Show
LOCATION:FENCE EQ side
PRIORITY:3
TRANSP:0
END:VEVENT
END:VCALENDAR
