BEGIN:VCALENDAR
PRODID:-//AT Content Types//AT Event//EN
VERSION:1.0
BEGIN:VEVENT
DTSTART:20190613T120000Z
DTEND:20190616T210000Z
DCREATED:20181016T200130Z
UID:ATEvent-bce9799b95564f79a09a3f1c2e331e44
SEQUENCE:0
LAST-MODIFIED:20190221T152311Z
SUMMARY:Harmon Classics Derby Mania
LOCATION:FENCE Equestrian Side
PRIORITY:3
TRANSP:0
END:VEVENT
END:VCALENDAR
