BEGIN:VCALENDAR
PRODID:-//AT Content Types//AT Event//EN
VERSION:2.0
METHOD:PUBLISH
BEGIN:VEVENT
DTSTAMP:20260423T105549Z
CREATED:20180116T153322Z
UID:ATEvent-6df649c40ca447dd8d087a32f78bf391
LAST-MODIFIED:20180116T154206Z
SUMMARY:Harmon Classics Derby Mania
DTSTART:20180614T120000Z
DTEND:20180617T210000Z
DESCRIPTION:Harmon Classics Derby Mania sanctioned by BRHJA\, SCHJA\, 
 NCHJA
LOCATION:FENCE Equestrian Side
CATEGORIES:Horse Show
CONTACT:Lewis Pack
URL:http://harmonclassics.com/
CLASS:PUBLIC
END:VEVENT
END:VCALENDAR
