BEGIN:VCALENDAR
PRODID:-//AT Content Types//AT Event//EN
VERSION:2.0
METHOD:PUBLISH
BEGIN:VEVENT
DTSTAMP:20260423T171014Z
CREATED:20170830T153726Z
UID:ATEvent-d19138db2fb8494fba4aac3b0489b386
LAST-MODIFIED:20180424T163109Z
SUMMARY:FRC Schooling Show
DTSTART:20180504T120000Z
DTEND:20180504T210000Z
LOCATION:FENCE Equestrian Side
CATEGORIES:Horse Show
CLASS:PUBLIC
END:VEVENT
END:VCALENDAR
