BEGIN:VCALENDAR
PRODID:-//AT Content Types//AT Event//EN
VERSION:2.0
METHOD:PUBLISH
BEGIN:VEVENT
DTSTAMP:20260423T142313Z
CREATED:20151110T205541Z
UID:ATEvent-dcf99f0d-d8da-488a-82ba-238e98a05dd8
LAST-MODIFIED:20151110T205541Z
SUMMARY:Lewis Pack Horse Show
DTSTART:20160902T120000Z
DTEND:20160904T210000Z
LOCATION:FENCE Equestrian Side
CATEGORIES:Horse Show
CLASS:PUBLIC
END:VEVENT
END:VCALENDAR
