BEGIN:VCALENDAR
PRODID:-//AT Content Types//AT Event//EN
VERSION:2.0
METHOD:PUBLISH
BEGIN:VEVENT
DTSTAMP:20260423T131329Z
CREATED:20151026T200107Z
UID:ATEvent-8c2c7bba-4c74-4f2b-9838-8d0548ac5204
LAST-MODIFIED:20151026T200107Z
SUMMARY:Lewis Pack Horse Show
DTSTART:20160616T040000Z
DTEND:20160619T210000Z
LOCATION:FENCE Equestrian Side
CATEGORIES:Horse Show
CLASS:PUBLIC
END:VEVENT
END:VCALENDAR
