BEGIN:VCALENDAR
PRODID:-//AT Content Types//AT Event//EN
VERSION:1.0
BEGIN:VEVENT
DTSTART:20140613T120000Z
DTEND:20140615T210000Z
DCREATED:20140103T193605Z
UID:ATEvent-153100be-39de-4327-8858-06c0576c1a1c
SEQUENCE:0
LAST-MODIFIED:20140103T193605Z
SUMMARY:Lewis Pack Horse Show
LOCATION:FENCE EQ side
PRIORITY:3
TRANSP:0
END:VEVENT
END:VCALENDAR
