BEGIN:VCALENDAR
PRODID:-//AT Content Types//AT Event//EN
VERSION:2.0
METHOD:PUBLISH
BEGIN:VEVENT
DTSTAMP:20260423T114733Z
CREATED:20240112T183117Z
UID:ATEvent-f24e74c049f149a7bea6a0aa6084992d
LAST-MODIFIED:20240112T183118Z
SUMMARY:Kudzu Talk
DTSTART:20240206T230000Z
DTEND:20240207T000000Z
LOCATION:FENCE Center
CATEGORIES:Nature Program
CLASS:PUBLIC
END:VEVENT
END:VCALENDAR
