BEGIN:VCALENDAR
PRODID:-//AT Content Types//AT Event//EN
VERSION:1.0
BEGIN:VEVENT
DTSTART:20200509T130000Z
DTEND:20200509T160000Z
DCREATED:20200221T152338Z
UID:ATEvent-b9940a869e004f288120e55534aec1ea
SEQUENCE:0
LAST-MODIFIED:20200424T011035Z
SUMMARY:Postponed: Kudzu Basket making class
DESCRIPTION:Due to the current restrictions in place surrounding the C
 ovid-19 crisis\, we will be postponing this class until it is safe for
  us to all come together again! We hope everyone is staying safe and h
 ealthy and will post the new date as soon as we have one confirmed.
LOCATION:FENCE Center
PRIORITY:3
TRANSP:0
END:VEVENT
END:VCALENDAR
