BEGIN:VCALENDAR
PRODID:-//AT Content Types//AT Event//EN
VERSION:1.0
BEGIN:VEVENT
DTSTART:20170214T200000Z
DTEND:20170214T220000Z
DCREATED:20170105T155755Z
UID:ATEvent-32fd1a92ef3f48029d932f48a31173e2
SEQUENCE:0
LAST-MODIFIED:20170131T135836Z
SUMMARY:Kid's Nature Club
DESCRIPTION:This month’s theme is For the Love of Birds. Kids will l
 earn about local birds and will be able to create bird feeders\, and b
 ird window decals to take home with them. The activities offered will 
 be both fun and educational aimed to engage children between the ages 
 of 5 and 12.
LOCATION:FENCE Center
PRIORITY:3
TRANSP:0
END:VEVENT
END:VCALENDAR
