BEGIN:VCALENDAR
PRODID:-//AT Content Types//AT Event//EN
VERSION:2.0
METHOD:PUBLISH
BEGIN:VEVENT
DTSTAMP:20260423T120042Z
CREATED:20170106T175119Z
UID:ATEvent-a2086c1ed4684d36955caf9accd07ca4
LAST-MODIFIED:20170830T151244Z
SUMMARY:Kid's Nature Club
DTSTART:20170912T190000Z
DTEND:20170912T210000Z
DESCRIPTION:The activities offered will be both fun and educational ai
 med to engage children between the ages of 5 and 12. The “Kids Natur
 e Club” will be offered free and open to the public and will be held
  on a drop in basis\, so adults should plan to accompany their childre
 n while at FENCE. Families are encouraged to bring their kids by for t
 he “Kids Nature Club” but also spend some time during their visit 
 exploring the trails.\nThis month’s theme is Insects. Kids will get 
 a chance to investigate some insects and create an insect themed craft
 .
LOCATION:FENCE Center
CATEGORIES:Nature Program
CONTACT:Tracie Hanson\, 8288599021\, info@fence.org
CLASS:PUBLIC
END:VEVENT
END:VCALENDAR
