BEGIN:VCALENDAR
PRODID:-//AT Content Types//AT Event//EN
VERSION:2.0
METHOD:PUBLISH
BEGIN:VEVENT
DTSTAMP:20260423T131729Z
CREATED:20170105T161128Z
UID:ATEvent-9431d033917a4c2bb9f14ad2ed50a03a
LAST-MODIFIED:20170505T202231Z
SUMMARY:Kid's Nature Club
DTSTART:20170516T190000Z
DTEND:20170516T210000Z
DESCRIPTION:The activities offered will be free\, fun and educational 
 aimed to engage children between the ages of 5 and 12. The “Kids Nat
 ure Club” will be held on a drop in basis\, so adults should plan to
  stay with their children while at FENCE.  Also spend some time during
  their visit exploring the trails. \nThis month’s theme is Animals. 
 Kids will get a chance to meet the FENCE educational animals and creat
 e an animal themed craft.
LOCATION:FENCE Center
CATEGORIES:Nature Program
CONTACT:Tracie Hanson\, 8288599021\, info@fence.org
CLASS:PUBLIC
END:VEVENT
END:VCALENDAR
