BEGIN:VCALENDAR
PRODID:-//AT Content Types//AT Event//EN
VERSION:2.0
METHOD:PUBLISH
BEGIN:VEVENT
DTSTAMP:20260423T105755Z
CREATED:20170105T160950Z
UID:ATEvent-0cc37e84ce0f441b9ea08ed2688665e3
LAST-MODIFIED:20170411T201828Z
SUMMARY:Kid's Nature Club
DTSTART:20170418T190000Z
DTEND:20170418T210000Z
DESCRIPTION:The activities offered this month will be both fun and edu
 cational aimed to engage children between the ages of 5 and 12. The â€
 śKids Nature Clubâ€ť will be offered free and open to the public and w
 ill be held on a drop in basis\, so adults should plan to stay with th
 eir children while at FENCE. Families are encouraged to bring their ki
 ds by for the â€śKids Nature Clubâ€ť but also spend some time during t
 heir visit exploring the trails. \nThis monthâ€™s theme is Pollinators
 . Kids will learn about local pollinators\, their role in the environm
 ent\, and will create seed balls to take home.
LOCATION:FENCE Center
CATEGORIES:Nature Program
CONTACT:Tracie Hanson\, 8288599021\, info@fence.org
CLASS:PUBLIC
END:VEVENT
END:VCALENDAR
