BEGIN:VCALENDAR
PRODID:-//AT Content Types//AT Event//EN
VERSION:2.0
METHOD:PUBLISH
BEGIN:VEVENT
DTSTAMP:20260423T080010Z
CREATED:20170105T160807Z
UID:ATEvent-a67e7f335eec49f4a380b03e4b53b3f0
LAST-MODIFIED:20170105T194455Z
SUMMARY:Kid's Nature Club
DTSTART:20170314T190000Z
DTEND:20170314T210000Z
LOCATION:FENCE Center
CATEGORIES:Nature Program
CONTACT:Tracie Hanson\, 8288599021\, info@fence.org
CLASS:PUBLIC
END:VEVENT
END:VCALENDAR
