BEGIN:VCALENDAR
PRODID:-//AT Content Types//AT Event//EN
VERSION:2.0
METHOD:PUBLISH
BEGIN:VEVENT
DTSTAMP:20260423T120042Z
CREATED:20170927T175344Z
UID:ATEvent-a11c635758a84c718d4a909eb3c2b5ac
LAST-MODIFIED:20180129T202456Z
SUMMARY:Kids Nature Club
DTSTART:20180213T200000Z
DTEND:20180213T220000Z
DESCRIPTION:This month's theme is "For the Love of Birds..." We will b
 e making bird feeders\, learning about different types of bird seed\, 
 and checking out different bird nests. \nKids Nature Club is offered f
 ree and is open to the public and will be held on a drop in basis\, so
  adults should plan to accompany their children while at FENCE. Famili
 es are encouraged to bring their kids by for Kids Nature Club but also
  spend some time during their visit exploring the trails. Ideal for ch
 ildren ages 5-12.
LOCATION:FENCE Great Room
CATEGORIES:Nature Program
CONTACT:Tracie Hanson\, 828-859-9021\, info@fence.org
CLASS:PUBLIC
END:VEVENT
END:VCALENDAR
