BEGIN:VCALENDAR
PRODID:-//AT Content Types//AT Event//EN
VERSION:2.0
METHOD:PUBLISH
BEGIN:VEVENT
DTSTAMP:20260423T131823Z
CREATED:20171011T122210Z
UID:ATEvent-440c119c39c84753a3cbe6c78acdf40d
LAST-MODIFIED:20180405T152930Z
SUMMARY:Kids Nature Club
DTSTART:20180410T190000Z
DTEND:20180410T210000Z
DESCRIPTION:This month's theme is decomposers! Kids will learn which o
 rganisms are decomposers\, learn about their role in ecosystems\, make
  a miniature wormery\, and get a chance to check out the rest of FENCE
 's animals. Kids Nature Club is offered free and open to the public an
 d will be held on a drop in basis\, so adults should plan to accompany
  their children while at FENCE. Activities are geared towards children
  aged 5-12. Families are encouraged to bring their kids by for Kids Na
 ture Club but also spend some time during their visit exploring the tr
 ails.
LOCATION:FENCE Center
CATEGORIES:Nature Program
CONTACT:Tracie Hanson\, 828-859-9021\, info@fence.org
CLASS:PUBLIC
END:VEVENT
END:VCALENDAR
