BEGIN:VCALENDAR
PRODID:-//AT Content Types//AT Event//EN
VERSION:2.0
METHOD:PUBLISH
BEGIN:VEVENT
DTSTAMP:20260423T120413Z
CREATED:20170830T152314Z
UID:ATEvent-4009a333d7f44425afdfcab7110e1659
LAST-MODIFIED:20170927T175723Z
SUMMARY:Kids Nature Club
DTSTART:20180313T190000Z
DTEND:20180313T210000Z
DESCRIPTION:The activities offered will be both fun and educational ai
 med to engage children between the ages of 5 and 12. The “Kids Natur
 e Club” will be offered free and open to the public and will be held
  on a drop in basis\, so adults should plan to accompany their childre
 n while at FENCE. Families are encouraged to bring their kids by for t
 he “Kids Nature Club” but also spend some time during their visit 
 exploring the trails.
LOCATION:FENCE Center
CATEGORIES:Nature Program
CONTACT:Tracie Hanson\, 8288599021\, info@fence.org
CLASS:PUBLIC
END:VEVENT
END:VCALENDAR
