BEGIN:VCALENDAR
PRODID:-//AT Content Types//AT Event//EN
VERSION:1.0
BEGIN:VEVENT
DTSTART:20170313T190000Z
DTEND:20170313T210000Z
DCREATED:20170830T152008Z
UID:ATEvent-f2637026bb69468f8ed0d6c53e17f298
SEQUENCE:0
LAST-MODIFIED:20170830T152008Z
SUMMARY:Kid's Nature Club
DESCRIPTION:The activities offered will be both fun and educational ai
 med to engage children between the ages of 5 and 12. The “Kids Natur
 e Club” will be offered free and open to the public and will be held
  on a drop in basis\, so adults should plan to accompany their childre
 n while at FENCE. Families are encouraged to bring their kids by for t
 he “Kids Nature Club” but also spend some time during their visit 
 exploring the trails.
LOCATION:FENCE Center
PRIORITY:3
TRANSP:0
END:VEVENT
END:VCALENDAR
