BEGIN:VCALENDAR
PRODID:-//AT Content Types//AT Event//EN
VERSION:1.0
BEGIN:VEVENT
DTSTART:20170117T200000Z
DTEND:20170117T220000Z
DCREATED:20170106T155303Z
UID:ATEvent-564746759d5a44abb1f69ddca8a9427d
SEQUENCE:0
LAST-MODIFIED:20170109T191817Z
SUMMARY:Kid's Nature Club
DESCRIPTION:Beginning this month\, FENCE will have a “Kids Nature Cl
 ub” once a month and will offer different themes monthly with accomp
 anying activities for the kids. These activities will be both fun and 
 educational aimed to engage children between the ages of 5 and 12. The
  “Kids Nature Club” will be offered free and open to the public an
 d will be held on a drop in basis. Families are encouraged to bring th
 eir kids to FENCE to explore our five miles of trails and stop into FE
 NCE to participate in our nature activities. \nThis month’s theme be
 ing Animal Tracks and Traces. Kids will learn about some of the animal
 s that call the woods at FENCE home and the tracks and traces that wil
 l be left behind by these animals.
LOCATION:FENCE Center
PRIORITY:3
TRANSP:0
END:VEVENT
END:VCALENDAR
