BEGIN:VCALENDAR
PRODID:-//AT Content Types//AT Event//EN
VERSION:1.0
BEGIN:VEVENT
DTSTART:20220430T120000Z
DTEND:20220430T130000Z
DCREATED:20220407T171816Z
UID:ATEvent-20c7462731ff45af97159addf0050434
SEQUENCE:0
LAST-MODIFIED:20220429T133050Z
SUMMARY:Cancelled-Kids bird walk
DESCRIPTION:We are hoping to reschedule at a later date. Join FENCE fo
 r an introduction to a birding walk for kids! Ideal for children ages 
 5-12. Registration is required for this event. A parent/guardian must 
 stay for the duration of the event.
LOCATION:FENCE Center
PRIORITY:3
TRANSP:0
END:VEVENT
END:VCALENDAR
