BEGIN:VCALENDAR
PRODID:-//AT Content Types//AT Event//EN
VERSION:2.0
METHOD:PUBLISH
BEGIN:VEVENT
DTSTAMP:20260423T114824Z
CREATED:20101206T170306Z
UID:ATEvent-ae8ffeea-b95f-4895-86f6-863679cb273d
LAST-MODIFIED:20101206T170306Z
SUMMARY:June 4: Astronomy Program at sunset
DTSTART:20110604T233000Z
DTEND:20110605T023000Z
DESCRIPTION:"Summer Stars Preview". Meet at the top of Hawk Ridge\, be
 hind the FENCE Center. Telescopes provided. Free program presented by 
 the Foothills Astronomical Society.
LOCATION:Hawk Ridge
CATEGORIES:Nature/Astronomy
CONTACT:Jim Cooper\, 828-859-8342
CLASS:PUBLIC
END:VEVENT
END:VCALENDAR
