BEGIN:VCALENDAR
PRODID:-//AT Content Types//AT Event//EN
VERSION:1.0
BEGIN:VEVENT
DTSTART:20100626T120000Z
DTEND:20100627T210000Z
DCREATED:20091124T202625Z
UID:ATEvent-cc1d6717-8f98-4a74-9896-1ea814ac29d5
SEQUENCE:0
LAST-MODIFIED:20091219T010811Z
SUMMARY:June 26\, 27: NCDCTA Dressage Show
LOCATION:Equestrian Center
PRIORITY:3
TRANSP:0
END:VEVENT
END:VCALENDAR
