BEGIN:VCALENDAR
PRODID:-//AT Content Types//AT Event//EN
VERSION:2.0
METHOD:PUBLISH
BEGIN:VEVENT
DTSTAMP:20260423T120657Z
CREATED:20100504T160431Z
UID:ATEvent-dc9fdf74-ce0a-41c7-86ba-6660cd376537
LAST-MODIFIED:20100504T160431Z
SUMMARY:June 26-27: NCDCTA Dressage Show
DTSTART:20100626T120000Z
DTEND:20100627T210000Z
LOCATION:Equestrian Center
CATEGORIES:Horse Show
CONTACT:828-859-9021\, horseshow@fence.org
URL:http://www.ncdcta.com
CLASS:PUBLIC
END:VEVENT
END:VCALENDAR
