BEGIN:VCALENDAR
PRODID:-//AT Content Types//AT Event//EN
VERSION:1.0
BEGIN:VEVENT
DTSTART:20100620T123000Z
DTEND:20100625T163000Z
DCREATED:20091124T202419Z
UID:ATEvent-6c427ec3-fc95-48f6-b88a-70b5764b2033
SEQUENCE:0
LAST-MODIFIED:20091219T194430Z
SUMMARY:June 21 - 25: FENCE Summer Day Camps\, Week 2
DESCRIPTION:Intermediate Horse Camp. For ages 8 - 12.
LOCATION:FENCE Grounds
PRIORITY:3
TRANSP:0
END:VEVENT
END:VCALENDAR
