BEGIN:VCALENDAR
PRODID:-//AT Content Types//AT Event//EN
VERSION:2.0
METHOD:PUBLISH
BEGIN:VEVENT
DTSTAMP:20260423T105755Z
CREATED:20091124T201813Z
UID:ATEvent-32cc172e-d515-46d9-9c4b-1ca614dc6b39
LAST-MODIFIED:20091219T010747Z
SUMMARY:June 21 - 24: U.S. Pony Club Camp
DTSTART:20100621T120000Z
DTEND:20100624T210000Z
LOCATION:Equestrian Center
CATEGORIES:Horse Show
CONTACT:Carolyn Culberson\, 803-643-5698
CLASS:PUBLIC
END:VEVENT
END:VCALENDAR
