BEGIN:VCALENDAR
PRODID:-//AT Content Types//AT Event//EN
VERSION:2.0
METHOD:PUBLISH
BEGIN:VEVENT
DTSTAMP:20260423T154814Z
CREATED:20091124T201049Z
UID:ATEvent-73ef18e3-343d-4c65-b212-38d2012d4279
LAST-MODIFIED:20091219T010650Z
SUMMARY:June 2-6: Tryon Summer Classic Horse Show
DTSTART:20100602T120000Z
DTEND:20100606T210000Z
LOCATION:Equestrian Center
CATEGORIES:Horse Show
CONTACT:Melissa LeRoy\, 828-859-9021\, horseshow@fence.org
CLASS:PUBLIC
END:VEVENT
END:VCALENDAR
