BEGIN:VCALENDAR
PRODID:-//AT Content Types//AT Event//EN
VERSION:2.0
METHOD:PUBLISH
BEGIN:VEVENT
DTSTAMP:20260423T072712Z
CREATED:20101206T171147Z
UID:ATEvent-7a164a73-6c33-4684-b452-7ca3bc689131
LAST-MODIFIED:20101206T171147Z
SUMMARY:June 17: Foothills Astronomical Society meeting
DTSTART:20110617T233000Z
DTEND:20110618T013000Z
DESCRIPTION:Regular monthly club meeting. All invited. Enter through r
 ear of FENCE Center.
LOCATION:FENCE Center
CATEGORIES:Nature/Astronomy
CONTACT:Jim Cooper\, 828-859-8342
CLASS:PUBLIC
END:VEVENT
END:VCALENDAR
