BEGIN:VCALENDAR
PRODID:-//AT Content Types//AT Event//EN
VERSION:1.0
BEGIN:VEVENT
DTSTART:20100617T120000Z
DTEND:20100620T210000Z
DCREATED:20091124T201601Z
UID:ATEvent-369bd5df-56e7-4adb-ab57-30eefeaedcc1
SEQUENCE:0
LAST-MODIFIED:20091219T010723Z
SUMMARY:June 17 - 20: Tryon Hounds Horse Show
PRIORITY:3
TRANSP:0
END:VEVENT
END:VCALENDAR
