BEGIN:VCALENDAR
PRODID:-//AT Content Types//AT Event//EN
VERSION:2.0
METHOD:PUBLISH
BEGIN:VEVENT
DTSTAMP:20260423T115356Z
CREATED:20091117T172823Z
UID:ATEvent-86a702ae-f483-495a-9508-8db920ae7b9f
LAST-MODIFIED:20091219T180727Z
SUMMARY:June 14 - Gardening Seminar
DTSTART:20100614T140000Z
DTEND:20100614T153000Z
DESCRIPTION:"Container Gardens"\, with Ann Carter of A Growing Concern
  Nursery. Free program.
LOCATION:Great Room
CATEGORIES:Nature Program
CONTACT:828-859-9021\, info@fence.org
CLASS:PUBLIC
END:VEVENT
END:VCALENDAR
