BEGIN:VCALENDAR
PRODID:-//AT Content Types//AT Event//EN
VERSION:2.0
METHOD:PUBLISH
BEGIN:VEVENT
DTSTAMP:20260423T142614Z
CREATED:20091124T202151Z
UID:ATEvent-54e45a48-5733-4165-aa77-8b9029dd220b
LAST-MODIFIED:20091219T194324Z
SUMMARY:June 14 - 18: FENCE Summer Day Camp\, Week 1
DTSTART:20100614T123000Z
DTEND:20100618T163000Z
DESCRIPTION:Beginner Horse Camp. For ages 8 - 12.
LOCATION:FENCE Grounds
CONTACT:Tracie Hanson\, 828-859-9021\, natureeducation@fence.org
CLASS:PUBLIC
END:VEVENT
END:VCALENDAR
