BEGIN:VCALENDAR
PRODID:-//AT Content Types//AT Event//EN
VERSION:2.0
METHOD:PUBLISH
BEGIN:VEVENT
DTSTAMP:20260423T095748Z
CREATED:20101120T214801Z
UID:ATEvent-9aa94638-b929-4545-bc4f-8729a69d3db4
LAST-MODIFIED:20101120T214801Z
SUMMARY:June 13: Gardening Seminar\, 10am
DTSTART:20110613T140000Z
DTEND:20110613T153000Z
DESCRIPTION:"Landscape Construction of Pathways"\, with Travis Lindsey
  of Lindsey's Landscaping. Free program.
LOCATION:Great Room
CATEGORIES:Nature Program
CONTACT:Rhonda Anderson\, 864-468-4848
CLASS:PUBLIC
END:VEVENT
END:VCALENDAR
