BEGIN:VCALENDAR
PRODID:-//AT Content Types//AT Event//EN
VERSION:2.0
METHOD:PUBLISH
BEGIN:VEVENT
DTSTAMP:20260423T114850Z
CREATED:20091124T173503Z
UID:ATEvent-631481ba-6e37-4f7e-b1ac-0bb79841d91f
LAST-MODIFIED:20091219T180709Z
SUMMARY:June 12: Astronomy Program at sunset
DTSTART:20100613T000000Z
DTEND:20100613T030000Z
DESCRIPTION:Preview of summer stars and Milky Way's center. Program ta
 kes place on the hill behind our main building. Telescopes provided. N
 o program in case of rain or heavy cloud cover. Offered by the Foothil
 ls Astronomical Society.
LOCATION:Hawk Ridge\, FENCE Center
CATEGORIES:Nature/Astronomy
CONTACT:828-859-8342
CLASS:PUBLIC
END:VEVENT
END:VCALENDAR
