BEGIN:VCALENDAR
PRODID:-//AT Content Types//AT Event//EN
VERSION:1.0
BEGIN:VEVENT
DTSTART:20100610T120000Z
DTEND:20100613T210000Z
DCREATED:20091124T201223Z
UID:ATEvent-3584518f-ea91-427f-8079-1f48b9651b84
SEQUENCE:0
LAST-MODIFIED:20091219T010705Z
SUMMARY:June 10 -13: Tryon Riding & Hunt Club Horse Show
LOCATION:Equestrian Center
PRIORITY:3
TRANSP:0
END:VEVENT
END:VCALENDAR
