BEGIN:VCALENDAR
PRODID:-//AT Content Types//AT Event//EN
VERSION:2.0
METHOD:PUBLISH
BEGIN:VEVENT
DTSTAMP:20260423T132232Z
CREATED:20091215T193006Z
UID:ATEvent-0bc41f27-2b54-49c1-9bd7-2ff4693a9b65
LAST-MODIFIED:20091219T010833Z
SUMMARY:July 7-11: Tryon Riding & Hunt Club Horse Show
DTSTART:20100707T120000Z
DTEND:20100711T210000Z
LOCATION:Equestrian Center
CATEGORIES:Horse Show
CONTACT:Mitzi Lindsay\, 828-859-6109\, info@trhcevents.org
URL:http://www.trhcevents.org
CLASS:PUBLIC
END:VEVENT
END:VCALENDAR
